BEGIN:VCALENDAR
VERSION:2.0
PRODID:-//Hegyek Vándora - ECPv5.7.1//NONSGML v1.0//EN
CALSCALE:GREGORIAN
METHOD:PUBLISH
X-WR-CALNAME:Hegyek Vándora
X-ORIGINAL-URL:https://hegyekvandora.hu
X-WR-CALDESC:Events for Hegyek Vándora
BEGIN:VTIMEZONE
TZID:Europe/Helsinki
BEGIN:DAYLIGHT
TZOFFSETFROM:+0200
TZOFFSETTO:+0300
TZNAME:EEST
DTSTART:20250330T010000
END:DAYLIGHT
BEGIN:STANDARD
TZOFFSETFROM:+0300
TZOFFSETTO:+0200
TZNAME:EET
DTSTART:20251026T010000
END:STANDARD
END:VTIMEZONE
BEGIN:VEVENT
DTSTART;TZID=Europe/Helsinki:20250830T170000
DTEND;TZID=Europe/Helsinki:20250830T200000
DTSTAMP:20260420T205312
CREATED:20250808T160048Z
LAST-MODIFIED:20250808T160049Z
UID:3070-1756573200-1756584000@hegyekvandora.hu
SUMMARY:Bevezetés a fermentálás rejtelmeibe!
DESCRIPTION:Bevezetés a fermentálás rejtelmeibe!\n\n\n\nEgy fantasztikus délutánban lehet részed\, amennyiben ellátogatsz Edit varázskonyhájába. Betekintést nyerhetsz a tejsavas erjesztés tartósítás világába\, amivel ételeink egészségesebbé tehetők. Bónuszként a házigazda még a pilátesz világába is elvisz. Mivel magánháznál lesz az esemény\, a létszám korlátozott és előzetes jelentkezés szükséges!!!
URL:https://hegyekvandora.hu/event/bevezetes-a-fermentalas-rejtelmeibe/
ATTACH;FMTTYPE=image/png:https://hegyekvandora.hu/wp-content/uploads/2025/08/Green-and-White-Realistic-Glow-Foods-Classroom-Poster.png
END:VEVENT
END:VCALENDAR