BEGIN:VCALENDAR
VERSION:2.0
PRODID:-//Hegyek Vándora - ECPv5.7.1//NONSGML v1.0//EN
CALSCALE:GREGORIAN
METHOD:PUBLISH
X-WR-CALNAME:Hegyek Vándora
X-ORIGINAL-URL:https://hegyekvandora.hu
X-WR-CALDESC:Events for Hegyek Vándora
BEGIN:VTIMEZONE
TZID:Europe/Helsinki
BEGIN:DAYLIGHT
TZOFFSETFROM:+0200
TZOFFSETTO:+0300
TZNAME:EEST
DTSTART:20250330T010000
END:DAYLIGHT
BEGIN:STANDARD
TZOFFSETFROM:+0300
TZOFFSETTO:+0200
TZNAME:EET
DTSTART:20251026T010000
END:STANDARD
END:VTIMEZONE
BEGIN:VEVENT
DTSTART;TZID=Europe/Helsinki:20250517T080000
DTEND;TZID=Europe/Helsinki:20250517T170000
DTSTAMP:20260421T011021
CREATED:20231207T171129Z
LAST-MODIFIED:20250116T160038Z
UID:2462-1747468800-1747501200@hegyekvandora.hu
SUMMARY:Havasszépe virágzás
DESCRIPTION:Havasszépe virágzás\n\n\n\nOLYMPUS DIGITAL CAMERA\n\n\n\nKedves Túratárs! \n\n\n\nTarts velünk! Ez a virágzás kihagyhatatlan látvány! \n\n\n\nRészletek később!
URL:https://hegyekvandora.hu/event/havasszepe-viragzas/
ATTACH;FMTTYPE=image/jpeg:https://hegyekvandora.hu/wp-content/uploads/2023/12/Jeli.jpg
END:VEVENT
BEGIN:VEVENT
DTSTART;TZID=Europe/Helsinki:20250524T000000
DTEND;TZID=Europe/Helsinki:20250524T235959
DTSTAMP:20260421T011021
CREATED:20220120T170710Z
LAST-MODIFIED:20250214T152702Z
UID:1311-1748044800-1748131199@hegyekvandora.hu
SUMMARY:Via ferrata és Sonk-Sompolygás
DESCRIPTION:Via ferrata és Sonk-Sompolygás \n\n\n\n\nRészletek és pontos időpont később! \nEz a program csak tagjainknak lesz elérhető! \n\n\n\nA HEVA facebook csoportja
URL:https://hegyekvandora.hu/event/1311/
ATTACH;FMTTYPE=image/jpeg:https://hegyekvandora.hu/wp-content/uploads/2022/01/kletti-e1642698299559.jpg
END:VEVENT
BEGIN:VEVENT
DTSTART;TZID=Europe/Helsinki:20250531T080000
DTEND;TZID=Europe/Helsinki:20250531T170000
DTSTAMP:20260421T011021
CREATED:20250425T180310Z
LAST-MODIFIED:20250425T180942Z
UID:3035-1748678400-1748710800@hegyekvandora.hu
SUMMARY:4. Biharfüredi Regék teljesítménytúra
DESCRIPTION:4. Biharfüredi Regék teljesítménytúra \n\n\n\nKedves Résztvevők/ Érdeklődők! \n\n\n\nSzeretettel várunk az EKE ’91 Nagyvárad egyesület teljesítménytúrájára\, a Bihar-hegységbe!  A Hegyek Vándora Egyesület segíti\, illetve szervezi a teljesítménytúrára az eljutást. A jelentkezők összetételétől függően\, mehetünk telekocsisan illetve buszosan is. \n\n\n\nRÉSZLETEK: amint mi is megkapjuk az EKE-től\, feltüntetjük itt a honlapon és face eseményt is létrehozunk a könnyebb összehangolás érdekében! \n\n\n\nJó hangulat\, közös élmények\, kalandok! HEVA- a túrák szerelmeseinek! \n\n\n\nA TÚRÁN BÁRKI RÉSZT VEHET!
URL:https://hegyekvandora.hu/event/4-biharfuredi-regek-teljesitmenytura/
ATTACH;FMTTYPE=image/jpeg:https://hegyekvandora.hu/wp-content/uploads/2025/04/eke.jpg
END:VEVENT
END:VCALENDAR