BEGIN:VCALENDAR
VERSION:2.0
PRODID:-//Hegyek Vándora - ECPv5.7.1//NONSGML v1.0//EN
CALSCALE:GREGORIAN
METHOD:PUBLISH
X-WR-CALNAME:Hegyek Vándora
X-ORIGINAL-URL:https://hegyekvandora.hu
X-WR-CALDESC:Events for Hegyek Vándora
BEGIN:VTIMEZONE
TZID:Europe/Helsinki
BEGIN:DAYLIGHT
TZOFFSETFROM:+0200
TZOFFSETTO:+0300
TZNAME:EEST
DTSTART:20210328T010000
END:DAYLIGHT
BEGIN:STANDARD
TZOFFSETFROM:+0300
TZOFFSETTO:+0200
TZNAME:EET
DTSTART:20211031T010000
END:STANDARD
END:VTIMEZONE
BEGIN:VEVENT
DTSTART;VALUE=DATE:20210807
DTEND;VALUE=DATE:20210808
DTSTAMP:20260421T043330
CREATED:20210805T175850Z
LAST-MODIFIED:20231201T143938Z
UID:777-1628294400-1628380799@hegyekvandora.hu
SUMMARY:Gerenna-geo
DESCRIPTION:A Hegyek Vándora Egyesület  barátait szeretettel várjuk újabb kalandunkra\, mely során a Bükk-hegységben teszünk egy csodás túrát. Ezen a napon is jól megfűszerezzük a túránkat. Érintjük a Gerenna-vár alatti perm-triász határszelvényt\, amiben felfedezhetjük a nagy kihalási esemény korszakát\, amikor is az élővilág min. 90%-a eltűnt a föld színéről. Persze ha már itt leszünk a vár alatt\, fel is megyünk szétnézni. Töltsd velünk ezt a csodás napot\, egy csodás hegységben!\n\nA túra időpontja: 2021.08.07.\n\nA túra elnevezése: Gerenna-geo\n\nA túra helyszíne: Bükk-hegység\n\n \n\nA túra útvonala:  Bánkút\, Huta-rét\, Gerenna-vár\, Huta-rét\, Bánkút\n\nA túra távja: 10 km\n\nSzint:  377 m\n\nA túra vezetője: Szabó Zsuzsa\n\nIndulás/Találkozó: Debrecenből\, a megszokott helyekről.\n\nUtazás: sz.gépkocsi\n\nJavasolt felszerelés: bejáratott\, vízálló bakancs\, réteges ruházat\, szükség esetén nap elleni védelem (napkrém\, sapka)\, esőkabát\, kötszer\, személyes gyógyszerek\, egész napra elegendő hideg élelem\, min. 2\,5 liter folyadék (lehetőleg víz).\n\nKöltségek: önköltséges túra\, telekocsis rendszer ennek költsége oszlik az utasok közt. Nem tagjaink a részvétel feltételeiről\, illetve a költségekről elérhetőségeinken érdeklődhetnek.\n\nJelentkezési határidő: 2021.08.06. (péntek estig) Részvételi szándékodat jelezd email-ben: hegyekvandora@gmail.com!\n\nFontos: min. létszám 4 fő\, kevesebb jelentkező esetén a program elmarad. Aki nem tagja egyesületünknek\, a részvétel feltételeiről és a költségekről elérhetőségeinken érdeklődhet\, illetve csak itt jelentkezhet: https://hegyekvandora.hu/elerhetosegeink/\n\nMinden jelentkező\, a jelentkezés leadását követően kap egy megerősítő e-mailt\, hogy jelentkezését regisztráltuk\, illetve a jelentkezésed státuszáról ( rendben\,létszám fölötti/ várakozólistás\, egyéb\, vagy nem tudtuk fogadni). A jelentkezési határidő lejáratát követően\, e-mailben tájékoztatást küldünk minden résztvevőnek a túra egyéb részleteivel kapcsolatban.\n\n \n\nA http://hegyekvandora.hu/  honlapon\, illetve egyéb helyeken megjelent programunkon a részvételed csak alapelveink megismerésével és elfogadásával lehetséges! Amennyiben részt veszel a hegyekvandora.hu oldalon megjelent programokon\, azzal külön egyeztetés nélkül is elismered\, hogy alapelveinket megismerted és magadra (illetve kiskorú hozzátartozódra) nézve kötelező jelleggel elfogadtad!\n\n 
URL:https://hegyekvandora.hu/event/777/
LOCATION:Bánkút\, Magyarország
ATTACH;FMTTYPE=image/jpeg:https://hegyekvandora.hu/wp-content/uploads/2021/08/Gerenna.jpg
END:VEVENT
BEGIN:VEVENT
DTSTART;VALUE=DATE:20210703
DTEND;VALUE=DATE:20210704
DTSTAMP:20260421T043330
CREATED:20210628T141751Z
LAST-MODIFIED:20210628T141900Z
UID:365-1625270400-1625356799@hegyekvandora.hu
SUMMARY:LEVENDULÁK  BŰVÖLETÉBEN túra
DESCRIPTION:Levendulás mesefaluba kirándulunk július első szombatján. Zöldellő hegyek-völgyek között találjuk ezt a varázslatos törpefalut\, melyben 2014-ben kezdték meg a levendulák ültetését. Mára már több\, mint 10000 tő levendula bűvöl el bennünket feledhetetlen illatával. Magyarországon Tihany és Pannonhalma után itt található a legnagyobb területű levendula ültetvény. Utunk során lesz lehetőséged egy könnyű túrára a környező csereháti tájon\, sétálhatsz az illatos levendulák között és zenés programokkal és igény szerint egy finom ebéddel is kényeztetnek bennünket. Aki szeretne\, szedhet levendulát a falu által biztosított zsákba.\n2021.július 03-án kora reggel indulunk Debrecenből a Kishegyesi úti Tesco parkolóból\, légkondis busszal. Úticélunk Keresztéte\, az elbűvölő aprócska település.\nKétféle alternatíva közül választhatsz: Kérhetsz ebédet levendulaszedéssel párosítva vagy jöhetsz e nélkül is túrázni\, sétálni és beszippantani a lila csodák illatát. A részvételi díj a létszámtól függ\, minél többen vagyunk\, annál alacsonyabb lesz a személyenkénti költség. A pontos összeget a végleges létszám után tudok mondani\, fél busz esetén 6-7000 Ft-os útiköltségre számíts és ehhez jön az ebéd és levendulaszedés ára (3000 ft/fő). \n  \nA túra időpontja: 2021.07.03. \nA túra helyszíne: Keresztéte \nA túra útvonala: Keresztéte és környéke  \n  \nA túra távja: 8 km Szint: 150 m \nA túra szervezője/vezetője: Szabó Zsuzsa \nIndulás/Találkozó: Debrecen\, Kishelgyesi út 1-11\, Tesco parkoló 2021.07.03. 6.00 óra \nUtazás: busz \nVisszaérkezés: 2021.07.03. 21.00 óra \nKöltségek: útiköltség+levendulaszedés+ebéd \n  \nJelentkezési határidő: 2021.06.25. (péntek estig) Részvételi szándékodat jelezd email-ben: zsuzsaszbo@gmail.com  \n  \nFontos: min. létszám 15 fő\, kevesebb jelentkező esetén a program elmarad.  \n  \nJavasolt felszerelés (ismétlem\, javasolt!): réteges ruházat\, szükség esetén nap elleni védelem (napkrém\, sapka)\, esőkabát\, kötszer\, személyes gyógyszerek\, egész napra elegendő hideg élelem\, min. 2\,5 liter folyadék.
URL:https://hegyekvandora.hu/event/levendulak-buvoleteben-tura/
LOCATION:Keresztéte
ATTACH;FMTTYPE=image/jpeg:https://hegyekvandora.hu/wp-content/uploads/2021/06/LEevendulák-bűvöletében.jpg
END:VEVENT
BEGIN:VEVENT
DTSTART;TZID=Europe/Helsinki:20210531T080000
DTEND;TZID=Europe/Helsinki:20210531T170000
DTSTAMP:20260421T043330
CREATED:20210513T203948Z
LAST-MODIFIED:20210513T203948Z
UID:109-1622448000-1622480400@hegyekvandora.hu
SUMMARY:Túra 2
DESCRIPTION:sawdsxw \n 
URL:https://hegyekvandora.hu/event/tura-2/
ATTACH;FMTTYPE=image/jpeg:https://hegyekvandora.hu/wp-content/uploads/2021/05/3-min-scaled.jpg
END:VEVENT
BEGIN:VEVENT
DTSTART;TZID=Europe/Helsinki:20210528T080000
DTEND;TZID=Europe/Helsinki:20210528T170000
DTSTAMP:20260421T043330
CREATED:20210513T194232Z
LAST-MODIFIED:20210513T194249Z
UID:101-1622188800-1622221200@hegyekvandora.hu
SUMMARY:Túra 1
DESCRIPTION:Túra leírás \n  \n 
URL:https://hegyekvandora.hu/event/tura-1/
LOCATION:Debrecen\, Piac utca 1\, Debrecen\, 4030\, Magyarország
ATTACH;FMTTYPE=image/jpeg:https://hegyekvandora.hu/wp-content/uploads/2021/05/mt-sample-background.jpg
END:VEVENT
END:VCALENDAR