BEGIN:VCALENDAR
VERSION:2.0
PRODID:-//Hegyek Vándora - ECPv5.7.1//NONSGML v1.0//EN
CALSCALE:GREGORIAN
METHOD:PUBLISH
X-WR-CALNAME:Hegyek Vándora
X-ORIGINAL-URL:https://hegyekvandora.hu
X-WR-CALDESC:Events for Hegyek Vándora
BEGIN:VTIMEZONE
TZID:Europe/Helsinki
BEGIN:DAYLIGHT
TZOFFSETFROM:+0200
TZOFFSETTO:+0300
TZNAME:EEST
DTSTART:20260329T010000
END:DAYLIGHT
BEGIN:STANDARD
TZOFFSETFROM:+0300
TZOFFSETTO:+0200
TZNAME:EET
DTSTART:20261025T010000
END:STANDARD
END:VTIMEZONE
BEGIN:VEVENT
DTSTART;TZID=Europe/Helsinki:20260820T080000
DTEND;TZID=Europe/Helsinki:20260823T170000
DTSTAMP:20260420T223045
CREATED:20240717T200911Z
LAST-MODIFIED:20251213T102554Z
UID:2601-1787212800-1787504400@hegyekvandora.hu
SUMMARY:HEVA Tábor! HEVA Tábor! HEVA Tábor! HEVA Tábor!
DESCRIPTION:9. HEVA TÁBOR\n\n\n\n\n\n\n\nKedves Résztvevők/ Érdeklődők! \n\n\n\nVárunk szeretettel a 9. HEVA Táborba! 2026.augusztus 20-23.! HEHE túrák! \n\n\n\nAz előző táborok sikere után tudjuk\, hogy újra megannyi csoda és szebbnél-szebb pillanatok várnak ránk a tábor alatti napokon. Ha szeretnéd a szurdokok mélyén vagy épp a tetején\, barlangokban (cseppkő/kristály)\, patakban vagy partján csodálni a természet szépségeit\, via-ferratázni\, közösség építő programokon részt venni\, ha szeretnél egy jó társaságban eltölteni pár felejthetetlen napot gyönyörű környezetben\, tarts velünk! Várnak rád a szurdokok\, via-ferráták\, barlangok\, kilátók\, szuper szállás és kedves HEVA tagok!  \n\n\n\nJó hangulat\, közös élmények\, kalandok! HEVA- a túrák szerelmeseinek! \n\n\n\nA 7. HEVA TÁBOR fotói: https://www.facebook.com/groups/hegyekvandoraegyesulet/permalink/8141647382563256/ Többi kép: egyesület face csoportjában a keresőbe beírod hogy VIII.HEVA Tábor és már láthatod is! \n\n\n\n\n\nProgram lehetőségek:\n\n\n\nAz eseményeket folyamatosan rakjuk fel és küldjük a résztvevők számára.
URL:https://hegyekvandora.hu/event/7-heva-tabor/
ATTACH;FMTTYPE=image/jpeg:https://hegyekvandora.hu/wp-content/uploads/2024/07/Drumetie-Valea-Rosia-Padurea-Craiului-Cheile-Cutilor.jpg
END:VEVENT
BEGIN:VEVENT
DTSTART;TZID=Europe/Helsinki:20261107T080000
DTEND;TZID=Europe/Helsinki:20261107T170000
DTSTAMP:20260420T223045
CREATED:20231105T192319Z
LAST-MODIFIED:20251213T100511Z
UID:2396-1794038400-1794070800@hegyekvandora.hu
SUMMARY:Évzáró via-ferrata
DESCRIPTION:Kedves Résztvevők/ Érdeklődők! \n\n\n\nSzeretettel várunk évzáró kletterseig/ via-ferrátás programunkra! \n\n\n\nRészletek később! \n\n\n\nOLYMPUS DIGITAL CAMERA
URL:https://hegyekvandora.hu/event/evzaro-via-ferrata/
ATTACH;FMTTYPE=image/jpeg:https://hegyekvandora.hu/wp-content/uploads/2022/01/kletti-e1642698299559.jpg
END:VEVENT
BEGIN:VEVENT
DTSTART;TZID=Europe/Helsinki:20261220T000000
DTEND;TZID=Europe/Helsinki:20261220T235959
DTSTAMP:20260420T223045
CREATED:20240927T082658Z
LAST-MODIFIED:20251213T095714Z
UID:2810-1797724800-1797811199@hegyekvandora.hu
SUMMARY:HEVA Karácsonyra hangolódás
DESCRIPTION:HEVA Karácsonyra hangolódás \n\n\n\nSzeretettel hívunk és várunk benneteket 2026.december 20-án\, vasárnap a hagyományos karácsony előtti kézműveskedésre és mézeskalács sütésre. \n\n\n\nMinden évben megszervezzük ezt a programot\, ami az emelkedett karácsonyi hangulat megteremtéséről\, a jó hangulatú kreatív időtöltésről\, a közösségépítésről szól elsősorban.  \n\n\n\n\n\n  Program: \n\n\n\n\n9.00: találkozás\, rövid séta az Erdőspusztákon\, toboz és termésgyűjtés\n\n\n\n13- estig: \n\nmézeskalács szaggatás\, sütés\n\n\n\nkarácsonyi dekoráció\, karácsonyfadísz készítése \n\n\n\nforraltborozás\n\n\n\n\n\n\n\n\n\n\n\n\nTovábbi tudnivalók: \n\n\n\nCsak meghívottak és egyesületi tagok számára szervezett program!  \n\n\n\nMinden további részletet privátban küldünk el a jelentkezőknek. A jelentkezés folyamatos nov. 30-ig.  \n\n\n\nA jelentkezésedet jelezd privátban Tamásné Molnár Piroskának\, vagy Szabó Zsuzsának! \n\n\n\nMűvészeti vezetőnk Tamás Gyula
URL:https://hegyekvandora.hu/event/heva-karacsonyra-hangolodas/
ATTACH;FMTTYPE=image/jpeg:https://hegyekvandora.hu/wp-content/uploads/2024/09/Karacsonyi-kezmuves2024.jpg
END:VEVENT
BEGIN:VEVENT
DTSTART;TZID=Europe/Helsinki:20261220T090000
DTEND;TZID=Europe/Helsinki:20261220T150000
DTSTAMP:20260420T223045
CREATED:20221207T172145Z
LAST-MODIFIED:20251213T095448Z
UID:2301-1797757200-1797778800@hegyekvandora.hu
SUMMARY:7. Forralt boros túra
DESCRIPTION:7. Forralt boros túra\n\n\n\n\nKedves Résztvevők/ Érdeklődők!   \n„5. Forralt boros séta” \nEgy kellemes sétára invitálunk évzáró túránkon. Így szilveszter előtt egy kicsit lazábban\, egy kicsit pihenősebben\, jó kedvűen zárjuk az évet.  Hogy mit részesítsz előnyben (meleg tea\, forralt bor\, pezsgő\, egyéb) rád bízzuk. Úti cél a Zeleméri templomrom\, ott fogunk ebédelni és (ott is) forralt borozni. Legyen mindenkinél csésze\, illetve forralt bor\, hogy tudjuk egymásét kóstolgatni!  Józsáról indulunk és ide is érkezünk vissza.  A túra nyitott\, azaz nem csak tagjaink számára elérhető. Maszat túravezető is ott lesz\, szóval kutyabarát a program! Az esemény része\, a sétálj Józsa kezdeményezésnek! \nA túra időpontja: 2026.12.20. \nA túra elnevezése: „7. Forralt boros séta” \nA túra helyszíne: Debrecen észak \nA túra útvonala:  \nA túra távja: 14\,8 km Szint: 120 m \nA túra vezetője: Szabó Sándor \nIndulás/Találkozó:  Indulás : 9-kor \nUtazás: – \nKöltségek: A túra ingyenes!  \nJelentkezési határidő: 2026.12.16. (szerda estig). Aki nem tagja egyesületünknek túrára jelentkezni\, az eseménynaptárnál   https://hegyekvandora.hu/esemenynaptar/ található „Jelentkezés programra” űrlaplap kitöltésével tud. \nJavasolt felszerelés: Mindig azt javasoljuk\, hogy a túrát megelőző napokban figyeljétek az időjárási előrejelzéseket és a ruházatot a várható időjárásnak megfelelően állítsátok össze. \nFontos: min. létszám 8 fő\, kevesebb jelentkező esetén a program elmarad! Továbbá a gyalogtúrán legfeljebb 15 fő vehet részt kettő túravezető kíséretében Mi­vel az utazás és a túra so­rán az idő­já­rás vál­to­zé­kony le­het\, ezért a tú­ra ­ve­ze­tője fenn­tart­ja a jo­got\, hogy rossz idő ese­tén – eső\, köd\, erős szél\, rossz lá­tá­si vi­szo­nyok – meg­vál­toz­tas­sa a prog­ra­mot. Ez je­lent­he­ti a kü­lön­bö­ző lát­ni­va­lók vagy tú­rák sorrend­jé­nek fel­cse­ré­lé­sét\, de kü­lö­nö­sen zord idő­já­rás ese­tén (a résztvevők biztonsága\, egészségük védelme érdekében) módosulhatnak vagy el is ma­rad­hat­nak. Eb­ben az eset­ben igyek­szünk va­la­mi­lyen más prog­ra­mot szer­vez­ni. \nA https://hegyekvandora.hu/ honlapon\, illetve egyéb helyeken megjelent programunkon a részvételed csak alapelveink ( https://hegyekvandora.hu/rolunk/ ) megismerésével és elfogadásával lehetséges! \n\n\n\nFacebook csoportunk
URL:https://hegyekvandora.hu/event/3-forralt-boros-tura/
ATTACH;FMTTYPE=image/jpeg:https://hegyekvandora.hu/wp-content/uploads/2022/12/3.-forralt-boros.jpg
END:VEVENT
END:VCALENDAR