BEGIN:VCALENDAR
VERSION:2.0
PRODID:-//Hegyek Vándora - ECPv5.7.1//NONSGML v1.0//EN
CALSCALE:GREGORIAN
METHOD:PUBLISH
X-WR-CALNAME:Hegyek Vándora
X-ORIGINAL-URL:https://hegyekvandora.hu
X-WR-CALDESC:Events for Hegyek Vándora
BEGIN:VTIMEZONE
TZID:Europe/Helsinki
BEGIN:DAYLIGHT
TZOFFSETFROM:+0200
TZOFFSETTO:+0300
TZNAME:EEST
DTSTART:20260329T010000
END:DAYLIGHT
BEGIN:STANDARD
TZOFFSETFROM:+0300
TZOFFSETTO:+0200
TZNAME:EET
DTSTART:20261025T010000
END:STANDARD
END:VTIMEZONE
BEGIN:VEVENT
DTSTART;TZID=Europe/Helsinki:20260307T080000
DTEND;TZID=Europe/Helsinki:20260307T170000
DTSTAMP:20260422T113925
CREATED:20240205T165631Z
LAST-MODIFIED:20251213T095113Z
UID:2510-1772870400-1772902800@hegyekvandora.hu
SUMMARY:Virágleső túrák
DESCRIPTION:Virágleső túrák\n\n\n\nSzia Túratárs! \n\n\n\nTarts velünk!Várnak rád a tavaszi virágok! A túrákat a virágzáshoz igazítjuk! Több túra is lesz\, hogy hunyortól /csillagvirágtól a kárpáti sáfrányig és még azon túl\, mindenben tudjunk gyönyörködni. Az itt megadott esemény\, csak a programokra hívja fel az érdeklődők figyelmét! A pontos dátumokat időben felrakjuk. HEVA tagság nagy előny! \n\n\n\nRészletek később! \n\n\n\nOLYMPUS DIGITAL CAMERA
URL:https://hegyekvandora.hu/event/viragleso-turak/
ATTACH;FMTTYPE=image/jpeg:https://hegyekvandora.hu/wp-content/uploads/2024/02/viragleso-scaled.jpg
END:VEVENT
END:VCALENDAR