BEGIN:VCALENDAR
VERSION:2.0
PRODID:-//Hegyek Vándora - ECPv5.7.1//NONSGML v1.0//EN
CALSCALE:GREGORIAN
METHOD:PUBLISH
X-WR-CALNAME:Hegyek Vándora
X-ORIGINAL-URL:https://hegyekvandora.hu
X-WR-CALDESC:Events for Hegyek Vándora
BEGIN:VTIMEZONE
TZID:Europe/Helsinki
BEGIN:DAYLIGHT
TZOFFSETFROM:+0200
TZOFFSETTO:+0300
TZNAME:EEST
DTSTART:20260329T010000
END:DAYLIGHT
BEGIN:STANDARD
TZOFFSETFROM:+0300
TZOFFSETTO:+0200
TZNAME:EET
DTSTART:20261025T010000
END:STANDARD
END:VTIMEZONE
BEGIN:VEVENT
DTSTART;TZID=Europe/Helsinki:20260207T080000
DTEND;TZID=Europe/Helsinki:20260207T170000
DTSTAMP:20260422T125641
CREATED:20231105T190951Z
LAST-MODIFIED:20251213T094256Z
UID:2390-1770451200-1770483600@hegyekvandora.hu
SUMMARY:Jégvilág túra
DESCRIPTION:Jégvilág túra\n\n\n\n\n\n\n\nKedves Résztvevők/ Érdeklődők!\n\n\n\nSzeretettel várunk hagyományos téli kalandunkra\, a Felvidék Paradicsomába! Imrikfalváról a víztározó partjáról indulva\, belekóstolhatunk a Szlovák Paradicsom festői szépségű\, hegyes-völgyes tájába. \n\n\n\nTúránk során megtekintjük a nemzeti park déli részének két ékkövét\, a Holló sziklát\, ahonnan a gyönyörű kilátást élvezhetjük\, és a Zejmár-szurdokot\, mely minden téli túránkon lenyűgözte a velünk tartó túratársainkat. \n\n\n\nA természet változatossága\, a havas táj szépsége\, a Gerava-fennsíkra felérve harapni valóan frisslevegő és a HEVA túrákon érezhető jó hangulat\, ideális a téli túrák szerelmeseinek és a kalandra vágyóknak. \n\n\n\n A TÚRÁN BÁRKI RÉSZT VEHET! A programot\, a jégvilághoz méltatlan (nem télies) körülmények ellenére is megtartjuk! \n\n\n\nFacebook csoportunk: https://www.facebook.com/groups/hegyekvandoraegyesulet \n\n\n\nA túra időpontja: 2026.02.07. (szombat) \n\n\n\nA túra elnevezése: Jégvilág túra \n\n\n\nA túra helyszíne: Felvidék Paradicsoma (Szlovákia) \n\n\n\nA túra útvonala: https://hegyekvandora.hu/2021/06/30/havrania-skala-hollo-szikla-zejmarska-roklina-zejmari-szurdok-felvidek-paradicsoma-2020-02-08/ \n\n\n\nA túra távja: 15 km Szint: 650 m \n\n\n\nA túra vezetője: Szabó Sándor \n\n\n\nIndulás/Találkozó: a helyet a résztvevőkkel egyeztetjük. \n\n\n\nUtazás: \n\n\n\nKöltségek: Telekocsi esetén\, az üzemanyag és a szükséges matrica vagy parkolás költségét szétosztjuk az utasok közt\, amit az autós túratárs felé kell rendezni. A túráért a HEVA nem kér pénzt! \n\n\n\nJelentkezési határidő: 2026.01.04. (szerda estig)\, Aki nem tagja egyesületünknek túrára jelentkezni\, az eseménynaptárnál   https://hegyekvandora.hu/esemenynaptar/ található „Jelentkezés programra” űrlaplap kitöltésével tud \n\n\n\nJavasolt felszerelés: Mindig azt javasoljuk\, hogy a túrát megelőző napokban figyeljétek az időjárási előrejelzéseket és a ruházatot a várható időjárásnak megfelelően állítsátok össze. \n\n\n\nFontos: min. létszám 8 fő\,kevesebb jelentkező esetén a program elmarad! Továbbá a gyalogtúrán legfeljebb 20 fő vehet részt kettő túravezető kíséretében Mi­vel az utazás és a túra so­rán az idő­já­rás vál­to­zé­kony le­het\, ezért a tú­ra ­ve­ze­tője fenn­tart­ja a jo­got\, hogy rossz idő ese­tén – eső\, köd\, erős szél\, rossz lá­tá­si vi­szo­nyok – meg­vál­toz­tas­sa a prog­ra­mot. Ez je­lent­he­ti a kü­lön­bö­ző lát­ni­va­lók vagy tú­rák sorrend­jé­nek fel­cse­ré­lé­sét\, de kü­lö­nö­sen zord idő­já­rás ese­tén (a résztvevők biztonsága\, egészségük védelme érdekében) módosulhatnak vagy el is ma­rad­hat­nak. Eb­ben az eset­ben igyek­szünk va­la­mi­lyen más prog­ra­mot szer­vez­ni. \n\n\n\nA https://hegyekvandora.hu/ honlapon\, illetve egyéb helyeken megjelent programunkon a részvételed csak alapelveink ( https://hegyekvandora.hu/rolunk/ ) megismerésével és elfogadásával lehetséges!
URL:https://hegyekvandora.hu/event/jegvilag-tura/
ATTACH;FMTTYPE=image/jpeg:https://hegyekvandora.hu/wp-content/uploads/2021/06/2-min.jpg
END:VEVENT
END:VCALENDAR