BEGIN:VCALENDAR
VERSION:2.0
PRODID:-//Hegyek Vándora - ECPv5.7.1//NONSGML v1.0//EN
CALSCALE:GREGORIAN
METHOD:PUBLISH
X-WR-CALNAME:Hegyek Vándora
X-ORIGINAL-URL:https://hegyekvandora.hu
X-WR-CALDESC:Events for Hegyek Vándora
BEGIN:VTIMEZONE
TZID:Europe/Helsinki
BEGIN:DAYLIGHT
TZOFFSETFROM:+0200
TZOFFSETTO:+0300
TZNAME:EEST
DTSTART:20250330T010000
END:DAYLIGHT
BEGIN:STANDARD
TZOFFSETFROM:+0300
TZOFFSETTO:+0200
TZNAME:EET
DTSTART:20251026T010000
END:STANDARD
END:VTIMEZONE
BEGIN:VEVENT
DTSTART;TZID=Europe/Helsinki:20250921T080000
DTEND;TZID=Europe/Helsinki:20250921T170000
DTSTAMP:20260420T205327
CREATED:20250711T203357Z
LAST-MODIFIED:20250910T180139Z
UID:3062-1758441600-1758474000@hegyekvandora.hu
SUMMARY:Szatmár-Beregi örökségtúrák! Tour de Szamos!
DESCRIPTION:Szatmár-Beregi örökségtúrák! Tour de Szamos! \n\n\n\n\n\n\n\nKedves Résztvevők/ Érdeklődők! \n\n\n\nSzeretettel várunk drótszamaras túránkra! \n\n\n\nA Hegyek Vándora Egyesület legújabb program sorozata. Célunk\, folyamatosan betekerni a Szatmár-Beregi örökségtúra útjait\, felkeresni látványos helyszíneit és még annál is többet!  \n\n\n\nA túrák összeállításánál számítunk minden résztvevő segítségére! Pl. szállás\, látnivaló\, útvonal\, vagy épp egy jó kávézó tipp is jól jöhet.  \n\n\n\n„Arra a vidékre\, amelyet Móricz Zsigmond\, e táj egyik leghíresebb szülötte\, a történelmi Magyarország utolsó tündéri mezejének nevezett. Tündérmező a víz birodalma\, amelyet behálóznak a Tisza és mellékfolyói\, a Szamos\, a Túr és a Kraszna. Ez a vizek által körbezárt érintetlen táj\, természetvédelmi területekben rendkívül gazdag és túralehetőségek egész tárházát kínálja az ide érkezőknek.  \n\n\n\nA Felső-Tisza-vidék vízitúra útvonalai\, fövenyes szabadstrandjai igen népszerűek\, de kevesen tudják\, hogy ez a térség büszkélkedhet Magyarország egyik leghosszabb kerékpárút-hálózatával\, amely bár árvízvédelmi célokból épült\, a kerékpáros túrázók számára óriási élményt nyújt. A folyók mentén több száz kilométer hosszan tekeregnek a töltéseken az aszfaltozott töltéskoronák\, amelyek kitűnően\, és ami fontos\, távol az autós forgalomtól\, biztonságosan bringázhatóak. Ezen a vidéken nem kell tartanod a fárasztó hegymenetektől vagy meredek lejtőktől. A Felső-Tisza-vidék legmagasabb pontja a Tarpa-Nagyhegy\, mindössze 150 méter magas\, de gyönyörű panoráma nyílik róla a Kárpátok irányába. Egymástól karnyújtásra lévő\, hangulatos\, csendes kis falvak között\, az illatos Szatmár-beregi alma és szilva ültetvényeken keresztül\, csodálatos természeti környezetben vezet utunk arra a vidékre\, amely a középkori templomok földje\, ahol megismerkedhetünk a mosolygó szentek templomával Csarodán\, vagy a mezítlábas Notre Dame-al Tákoson. Ezeket az ékszerdobozhoz hasonló parányi kis templomokat a Középkori templomok útja fűz fel egy útvonalra\, amely 2017-ben elnyerte Magyarország legjobb kulturális úticélja címet (www.templomut.hu). Ez az a vidék\, amely a magyar irodalom kultikus zarándokhelye\, ahol alkotott Kölcsey Ferenc\, ahol megszületett a magyar himnusz\, ez a táj ihlette Petőfi Sándort vagy a gyermekéveit itt töltő Móricz Zsigmondot. Az Öreg-Túr partján áll az ország egyik utolsó működő vízimalma\, Tarpán pedig a Tiszántúl egyik leghíresebb ipartörténeti műemléke a tarpai szárazmalom\, amelyet csak lónyúzó malomnak hívtak. Egy dicső kor világát a vámosatya határában álló várrom és e vidék kisnemesi kúriái idézik\, melyekből a legszebbeket mutatjuk be az örökségtúra során.” \n\n\n\nhttps://www.oroksegtura.hu/oroksegturak/szatmar-beregi-kerekparos-oroksegtura \n\n\n\n A TÚRÁN BÁRKI RÉSZT VEHET! A programot\, csak megfelelő időjárási előrejelzések esetén tartjuk meg! \n\n\n\nFacebook csoportunk: https://www.facebook.com/groups/hegyekvandoraegyesulet \n\n\n\nA túra időpontja: 2025.09.21. (vasárnap) !!! \n\n\n\nA túra elnevezése: HEVA bringa túrák! Tour de Szamos! \n\n\n\nA túra helyszíne: Szatmár \n\n\n\nA túra útvonala:  \n\n\n\nA túra távja:  km Szint:  m \n\n\n\nA túra vezetője: Szabó Sándor \n\n\n\nIndulás/Találkozó: a helyet a résztvevőkkel egyeztetjük. \n\n\n\nUtazás:  \n\n\n\nKöltségek:  ÖNKÖLTSÉGES!!! \n\n\n\nJelentkezési határidő: 2025.09.17. (szerda estig)\, Aki nem tagja egyesületünknek túrára jelentkezni\, az eseménynaptárnál   https://hegyekvandora.hu/esemenynaptar/ található „Jelentkezés programra” űrlaplap kitöltésével tud \n\n\n\nJavasolt felszerelés: Mindig azt javasoljuk\, hogy a túrát megelőző napokban figyeljétek az időjárási előrejelzéseket és a ruházatot a várható időjárásnak megfelelően állítsátok össze. Saját kerékpár (közlekedés biztonságilag megfelelő állapotban)\, hátizsák vagy kerékpáros táska\, fényvisszaverő mellény\, kerékpáros sisak\, napszemüveg\, fényvédő\,élelem\, folyadék (lehetőleg kulacstartóban)\, esőkabát\, diákigazolvány\, tartalék gumibelső\, pumpa\, költőpénz. \n\n\n\nFontos: min. létszám 8 fő\, kevesebb jelentkező esetén a program elmarad! Mi­vel az utazás és a túra so­rán az idő­já­rás vál­to­zé­kony le­het\, ezért a tú­ra ­ve­ze­tője fenn­tart­ja a jo­got\, hogy rossz idő ese­tén – eső\, köd\, erős szél\, rossz lá­tá­si vi­szo­nyok – meg­vál­toz­tas­sa a prog­ra­mot. Ez je­lent­he­ti a kü­lön­bö­ző lát­ni­va­lók vagy tú­rák sorrend­jé­nek fel­cse­ré­lé­sét\, de kü­lö­nö­sen zord idő­já­rás ese­tén (a résztvevők biztonsága\, egészségük védelme érdekében) módosulhatnak vagy el is ma­rad­hat­nak. Eb­ben az eset­ben igyek­szünk va­la­mi­lyen más prog­ra­mot szer­vez­ni. \n\n\n\nA https://hegyekvandora.hu/ honlapon\, illetve egyéb helyeken megjelent programunkon a részvételed csak alapelveink ( https://hegyekvandora.hu/rolunk/ ) megismerésével és elfogadásával lehetséges!
URL:https://hegyekvandora.hu/event/heva-bringa-turak/
ATTACH;FMTTYPE=image/png:https://hegyekvandora.hu/wp-content/uploads/2025/07/Orange-and-Brown-Illustrated-World-Bicycle-Day-Presentation.png
END:VEVENT
END:VCALENDAR