BEGIN:VCALENDAR
VERSION:2.0
PRODID:-//Hegyek Vándora - ECPv5.7.1//NONSGML v1.0//EN
CALSCALE:GREGORIAN
METHOD:PUBLISH
X-WR-CALNAME:Hegyek Vándora
X-ORIGINAL-URL:https://hegyekvandora.hu
X-WR-CALDESC:Events for Hegyek Vándora
BEGIN:VTIMEZONE
TZID:Europe/Helsinki
BEGIN:DAYLIGHT
TZOFFSETFROM:+0200
TZOFFSETTO:+0300
TZNAME:EEST
DTSTART:20250330T010000
END:DAYLIGHT
BEGIN:STANDARD
TZOFFSETFROM:+0300
TZOFFSETTO:+0200
TZNAME:EET
DTSTART:20251026T010000
END:STANDARD
END:VTIMEZONE
BEGIN:VEVENT
DTSTART;TZID=Europe/Helsinki:20250524T000000
DTEND;TZID=Europe/Helsinki:20250524T235959
DTSTAMP:20260421T023916
CREATED:20220120T170710Z
LAST-MODIFIED:20250214T152702Z
UID:1311-1748044800-1748131199@hegyekvandora.hu
SUMMARY:Via ferrata és Sonk-Sompolygás
DESCRIPTION:Via ferrata és Sonk-Sompolygás \n\n\n\n\nRészletek és pontos időpont később! \nEz a program csak tagjainknak lesz elérhető! \n\n\n\nA HEVA facebook csoportja
URL:https://hegyekvandora.hu/event/1311/
ATTACH;FMTTYPE=image/jpeg:https://hegyekvandora.hu/wp-content/uploads/2022/01/kletti-e1642698299559.jpg
END:VEVENT
END:VCALENDAR