BEGIN:VCALENDAR
VERSION:2.0
PRODID:-//Hegyek Vándora - ECPv5.7.1//NONSGML v1.0//EN
CALSCALE:GREGORIAN
METHOD:PUBLISH
X-WR-CALNAME:Hegyek Vándora
X-ORIGINAL-URL:https://hegyekvandora.hu
X-WR-CALDESC:Events for Hegyek Vándora
BEGIN:VTIMEZONE
TZID:Europe/Helsinki
BEGIN:DAYLIGHT
TZOFFSETFROM:+0200
TZOFFSETTO:+0300
TZNAME:EEST
DTSTART:20220327T010000
END:DAYLIGHT
BEGIN:STANDARD
TZOFFSETFROM:+0300
TZOFFSETTO:+0200
TZNAME:EET
DTSTART:20221030T010000
END:STANDARD
END:VTIMEZONE
BEGIN:VEVENT
DTSTART;VALUE=DATE:20220423
DTEND;VALUE=DATE:20220424
DTSTAMP:20260420T221442
CREATED:20220403T105803Z
LAST-MODIFIED:20250324T192603Z
UID:1708-1650672000-1650758399@hegyekvandora.hu
SUMMARY:"Szalonnasütős Haspók Túra"
DESCRIPTION:Kedves Túratársak!\n\nSzeretettel várunk hagyományteremtő jelleggel indított „Haspók túránkra”\, melyen most  a sétán kívül szalonnasütéssel kényeztetjük magunkat. (Amennyiben nem lép újra életbe tűzgyújtási tilalom!)\n\n6 fő alatt a túra nem kerül megrendezésre!\n\nEzen a túránkon egyesületi tagjaink és meghívott vendégeik vehetnek részt.\n \n\nA túra időpontja: 2022.04.23. (szombat) 13.00-20.00\n\nA túra elnevezése: „Szalonnasütős Haspók túra”.\n\nA túra helyszíne: Erdőspuszták (Debrecen)\n\nEgy kellemes séta az Erdőspuszták területén\, sok pihenővel és szalonnasütéssel.\n\nA túra távja: ~8 km A túra szintje: ~20 m\n\nA túra vezetője: Szabó Zsuzsa\, Tamás Gyula\n\nTalálkozó: az érintettekkel/résztvevőkkel egyeztetett időpontban.\n\nVisszaérkezés: A jó hangulat függvénye.\n\nKöltségek: –\n\nJelentkezési határidő: 2022.04.20. ( szerda éjfélig)\n\nFontos: min. létszám 6 fő\, kevesebb jelentkező esetén a program elmarad. Amennyiben újra tűzgyújtási tilalom lépne érvénybe\, akkor a túra változik!!!\nA facebook-os (zárt) csoportunkban várom a jelentkezéseket\, de írhatsz privátban is! A részvételt létszámmal mindenképpen jelezzétek!\n\nAmit hozz magaddal: Időjárásnak megfelelő ruházat\, kényelmes cipő\, enni-\,  innivaló\, a szalonnasütéshez az élelmiszer hozzávalók magadnak (szalonna\, kenyér\, zöldségek)\, műanyag/papír tányér\, kés\n\nA https://hegyekvandora.hu/ honlapon\, illetve egyéb helyeken megjelent programunkon a részvételed csak alapelveink (https://hegyekvandora.hu/rolunk/ ) megismerésével és elfogadásával lehetséges! Amennyiben részt veszel a hegyekvandora.hu oldalon megjelent programokon\, azzal külön egyeztetés nélkül is elismered\, hogy alapelveinket megismerted és magadra (illetve kiskorú hozzátartozódra) nézve kötelező jelleggel elfogadtad!\n\n 
URL:https://hegyekvandora.hu/event/szalonnasutos-haspok-tura/
ATTACH;FMTTYPE=image/jpeg:https://hegyekvandora.hu/wp-content/uploads/2022/04/Szalonnasutos-haspok-scaled-e1648983410334.jpg
END:VEVENT
END:VCALENDAR