BEGIN:VCALENDAR
VERSION:2.0
PRODID:-//Hegyek Vándora - ECPv5.7.1//NONSGML v1.0//EN
CALSCALE:GREGORIAN
METHOD:PUBLISH
X-WR-CALNAME:Hegyek Vándora
X-ORIGINAL-URL:https://hegyekvandora.hu
X-WR-CALDESC:Events for Hegyek Vándora
BEGIN:VTIMEZONE
TZID:Europe/Helsinki
BEGIN:DAYLIGHT
TZOFFSETFROM:+0200
TZOFFSETTO:+0300
TZNAME:EEST
DTSTART:20240331T010000
END:DAYLIGHT
BEGIN:STANDARD
TZOFFSETFROM:+0300
TZOFFSETTO:+0200
TZNAME:EET
DTSTART:20241027T010000
END:STANDARD
END:VTIMEZONE
BEGIN:VEVENT
DTSTART;TZID=Europe/Helsinki:20240413T080000
DTEND;TZID=Europe/Helsinki:20240413T170000
DTSTAMP:20260420T204104
CREATED:20240407T193449Z
LAST-MODIFIED:20240409T144627Z
UID:2536-1712995200-1713027600@hegyekvandora.hu
SUMMARY:Szádelői-völgy és a Tornai-vár
DESCRIPTION:Szia\, Túratárs! Kedves Résztvevők/ Érdeklődők! \n\n\n\nTarts velünk a Tornai-karsztra! \n\n\n\nSzurdoktúra a Szádelői-völgyben A határtól néhány kilométerre található a Szádelői-völgy\, ami egy igen látványos\, kirándulásra csábító szurdok\, ahol vadregényes kanyon\, változatos sziklaalakzatok\, virágos rétek és festői kilátások várnak ránk. Az út első szakaszán a Szár-patak csobogása ad hangulatot az utunkhoz\, amíg a szurdok belsejében haladunk. Már ez sem kicsit látványos\, de az út következő szakaszán felkapaszkodunk a fennsíkra\, ahonnan egészen páratlan kilátás nyílik a szurdokra\, ahol előtte haladtunk. Ezt követően felkaptatunk a Tornai-várba\, ami magában is szép látványosság\, de ezen felül innen is csodás panorámában gyönyörködhetünk. \n\n\n\nVárunk szeretettel! \n\n\n\nA TÚRÁN BÁRKI RÉSZT VEHET! A program ingyenes! Egy megosztás\, egy tetszik és már jöhetsz is velünk! \n\n\n\nA túra időpontja: 2024.04.13. \n\n\n\nA túra elnevezése: Szádelői-völgy és a Tornai-vár \n\n\n\nA túra helyszíne: Tornai-karszt \n\n\n\nA túra útvonala:Szádelő\, Szádelői szurdok\, Szádelői fennsík\, Torna vára\, Szádelő \n\n\n\nA túra távja: 15 km A túra szintje: ~600 m (Lehet rövidíteni!) \n\n\n\nA túra vezetője: Károlyi Tamás és Bodnár Sándor \n\n\n\nTalálkozó: résztvevőkkel egyeztetett időpontban a jel.határidő lejártát követően. \n\n\n\nVisszaérkezés: – \n\n\n\nKöltségek: Az utazás telekocsis rendszerben zajlik\, az üzemanyag és a szükséges matrica vagy parkolás költségét szétosztjuk az utasok közt. \n\n\n\nJelentkezési határidő: 2024.04.11. csütörtök 21.00 \n\n\n\nJelentkezés : https://hegyekvandora.hu/esemenynaptar/  Az oldal alsó részén találod a „Jelentkezés programra” űrlapot. \n\n\n\nFontos: min. létszám 8 fő\, kevesebb jelentkező esetén a program elmarad! Továbbá a gyalogtúrán legfeljebb 15 fő vehet részt kettő túravezető kíséretében.Javasolt felszerelés: Mindig azt javasoljuk\, hogy a túrát megelőző napokban figyeljétek az időjárási előrejelzéseket és a ruházatot a várható időjárásnak megfelelően állítsátok össze. \n\n\n\nA https://hegyekvandora.hu/ honlapon\, illetve egyéb helyeken megjelent programunkon a részvételed csak alapelveink (https://hegyekvandora.hu/rolunk/ ) megismerésével és elfogadásával lehetséges! Amennyiben részt veszel a hegyekvandora.hu oldalon megjelent programokon\, azzal külön egyeztetés nélkül is elismered\, hogy alapelveinket megismerted és magadra (illetve kiskorú hozzátartozódra) nézve kötelező jelleggel elfogadtad!
URL:https://hegyekvandora.hu/event/szadeloi-volgy-es-a-tornai-var/
ATTACH;FMTTYPE=image/jpeg:https://hegyekvandora.hu/wp-content/uploads/2021/07/110313Zadiel-169-min-scaled.jpg
END:VEVENT
END:VCALENDAR