BEGIN:VCALENDAR
VERSION:2.0
PRODID:-//Hegyek Vándora - ECPv5.7.1//NONSGML v1.0//EN
CALSCALE:GREGORIAN
METHOD:PUBLISH
X-WR-CALNAME:Hegyek Vándora
X-ORIGINAL-URL:https://hegyekvandora.hu
X-WR-CALDESC:Events for Hegyek Vándora
BEGIN:VTIMEZONE
TZID:Europe/Helsinki
BEGIN:DAYLIGHT
TZOFFSETFROM:+0200
TZOFFSETTO:+0300
TZNAME:EEST
DTSTART:20250330T010000
END:DAYLIGHT
BEGIN:STANDARD
TZOFFSETFROM:+0300
TZOFFSETTO:+0200
TZNAME:EET
DTSTART:20251026T010000
END:STANDARD
END:VTIMEZONE
BEGIN:VEVENT
DTSTART;TZID=Europe/Helsinki:20250419T000000
DTEND;TZID=Europe/Helsinki:20250419T235959
DTSTAMP:20260420T161601
CREATED:20220613T193646Z
LAST-MODIFIED:20250214T152954Z
UID:2090-1745020800-1745107199@hegyekvandora.hu
SUMMARY:"HEVA 30" Murányi-fennsík
DESCRIPTION:„HEVA 30” Murányi-fennsík\n\n\n\n\n\n\nKedves Résztvevők/ Érdeklődők! \nSzeretettel várunk a HEVA legújabb kalandjára\, a Murányi-fennsíkra. A túra célja\, hogy a Kárpát-medence egy újabb és látványos zugának értékeit megismerjük\, szépségeit felfedezzük egy kellemes egész napos barangolás keretében. A túra önköltséges\, az egyesület felé a fizetség\, ha jókedvűen érkezel és távozol. A „HEVA 30-40-50” (régebbi nevén Bükk Vándora)\, a Hegyek Vándora Egyesület hagyományteremtő túrái közé tartozik ahol ki-ki az önmagának megfelelő távon tesztelheti mentális és fizikális kitartását\, vagy csak sétál egy jót velünk. A részvétel feltétele\, az előzetes regisztráció! A „HEVA 40”  nyáron lesz megrendezve. \nA túra időpontja:  \nA túra elnevezése: „HEVA 30″  \nA túra helyszíne:  \nA túra útvonala:  \nA túra távja:  km A túra szintje:  m \nA túra vezetője:  \nIndulás/Találkozó: A résztvevőkkel egyeztetjük. \nVisszaérkezés: Debrecenbe  az esti órákban \nUtazás: egyénileg (az egyesület Facebook csoportjában a telekocsis utazást össze tudjátok szervezni)Költségek: önköltséges túra \nJelentkezési határidő: 2025. .. (….. estig). Aki nem tagja egyesületünknek\, csak itt jelentkezhet: https://hegyekvandora.hu/esemenynaptar/ \nFontos: min. létszám 8 fő\, kevesebb jelentkező esetén a program elmarad. A max. létszám 15 fő. \nMinden jelentkező\, a jelentkezés leadását követően kap egy megerősítő e-mailt\, hogy jelentkezését regisztráltuk\, illetve a jelentkezésed státuszáról ( rendben\,létszám fölötti/ várakozólistás\, egyéb\, vagy nem tudtuk fogadni). A jelentkezési határidő lejáratát követően\, e-mailban tájékoztatást küldünk minden résztvevőnek a túra egyéb részleteivel kapcsolatban. \nA https://hegyekvandora.hu/ honlapon\, illetve egyéb helyeken megjelent programunkon a részvételed csak alapelveink ( https://hegyekvandora.hu/rolunk/ ) megismerésével és elfogadásával lehetséges! Amennyiben részt veszel a hegyekvandora.hu oldalon megjelent programokon\, azzal külön egyeztetés nélkül is elismered\, hogy alapelveinket megismerted és magadra (illetve kiskorú hozzátartozódra) nézve kötelező jelleggel elfogadtad! \nJavasolt felszerelés: bejáratott bakancs/cipő\, szükség esetén nap elleni védelem (napkrém\, sapka\, napszemüveg)\, esőkabát\, kötszer\, személyes gyógyszerek\, hideg élelem\, min. 2\,5 liter folyadék (lehetőleg víz)\, kullancsriasztó. \n\n\n\nFacebook csoportunk
URL:https://hegyekvandora.hu/event/heva-30-teljesitmenytura/
ATTACH;FMTTYPE=image/jpeg:https://hegyekvandora.hu/wp-content/uploads/2022/06/murany-heva-30.jpg
END:VEVENT
END:VCALENDAR