BEGIN:VCALENDAR
VERSION:2.0
PRODID:-//Hegyek Vándora - ECPv5.7.1//NONSGML v1.0//EN
CALSCALE:GREGORIAN
METHOD:PUBLISH
X-WR-CALNAME:Hegyek Vándora
X-ORIGINAL-URL:https://hegyekvandora.hu
X-WR-CALDESC:Events for Hegyek Vándora
BEGIN:VTIMEZONE
TZID:Europe/Helsinki
BEGIN:DAYLIGHT
TZOFFSETFROM:+0200
TZOFFSETTO:+0300
TZNAME:EEST
DTSTART:20210328T010000
END:DAYLIGHT
BEGIN:STANDARD
TZOFFSETFROM:+0300
TZOFFSETTO:+0200
TZNAME:EET
DTSTART:20211031T010000
END:STANDARD
END:VTIMEZONE
BEGIN:VEVENT
DTSTART;VALUE=DATE:20211113
DTEND;VALUE=DATE:20211114
DTSTAMP:20260420T221340
CREATED:20210824T142321Z
LAST-MODIFIED:20231201T143816Z
UID:849-1636761600-1636847999@hegyekvandora.hu
SUMMARY:Andezit túra
DESCRIPTION:Szeretettel várunk a HEVA (geo) turisztikai kalandjára\, amikor is Bér településen hagyva autóinkat teszünk egy csodás túrát. A túra célja\, hogy hazánk eme látványos zugának geo- és táji értékeit megismerjük\, szépségeit felfedezzük.\n\nA „Nagy-hegy Nógrád megye egyik legértékesebb geológiai értéke a hegy andezitsapkája\, világritkaságnak számító\, ívelt elválású oszlopokkal.\n\nAz andezitet egy késő miocén korú vulkáni kitörés hozta felszínre mintegy 18-19 millió éve. Először riolittufa rakódott le\, majd erre andezitláva\, illetve lávaagglomerátum ömlött. A vulkáni tevékenység utolsó szakaszában kialakult rétegvulkáni kúpok mára lepusztultak.\n\nA mai Nagy-hegy és a Szanda-hegy alatt a láva megrekedt a mélyben. A több kilométer hosszúra nyúló hasadékkitöltések (kőzettelérek) fölül az üledékes kőzeteket az erózió elhordta\, és így a felszínre került a jóval tömörebb és ellenállóbb\, sötétszürke hiperszténandezit.\n\nAz andezit oszlopos elválása önmagában is ritkaság: az oszlopos elválású vulkanikus kőzetek 90%-a bazalt\, 8%-a riolit. Oszlopos elválású andezitet Európában máshol nem ismerünk. Az ívelt elválású andezit különösen ritka: ilyesmit a világon mindössze 5-6 helyen találtak. A béri\, 5-6 szögű oszlopok átmérője 30–40 cm; hosszuk 8–10 m\, alsó részük 70 fokos szögben elhajlik.\n\nAz andezitoszlopok mellett érdekes látványt nyújt a leomlott anyagukból kialakult kőtenger is.” Wikipedia\n\nA Szanda várnál szédületes panoráma vár bennünket. Bónuszként a várhegy andezit-orgonáit is megtekinthetjük. A három-négyemeletnyi magasságú\, kb. 75 fokos dőlésű\, a kőbányászat során kibontott andezit oszlopok nyílegyenesek\, ellentétben a közeli béri görbült oszlopokból álló „andezit csúszdával”.\n\nA túra időpontja: 2021.11.13.\n\nA túra elnevezése: Andezit túra\n\nA túra helyszíne: Bér\n\nA túra útvonala: Bér\, Nagy-hegy\, Ordaspuszta\, Szanda-vára\, Bér\n\nA túra távja: 23 km A túra szintje: 520 m\n\nA túra vezetője: Szabó Sándor\n\nA túra nehézsége: 2 csiga\n\nA túra térképes elérhetősége:  https://en.mapy.cz/s/pozosecume\n\nIndulás/Találkozó: Debrecenből\, a megszokott helyekről (pontos hely és idő később).  Visszaérkezés: Debrecenbe  az esti órákban\n\nUtazás: sz.gépkocsi \,\nKöltségek: önköltséges túra\, benzin+matrica. Ennek költsége oszlik az utasok közt. Érvényes HEVA tagsággal nem rendelkezők\, a költségekről elérhetőségeinken érdeklődhetnek.\n\nRészvételi díj befizetési határideje:\n\nAz ár tartalmazza:…. \, Az ár nem tartalmazza:\n\nEgyéb költségek:\n\n \n\nJelentkezési határidő: 2020.11.08. (hétfő estig)\, Aki nem tagja egyesületünknek\, csak itt jelentkezhet: https://hegyekvandora.hu/esemenynaptar/\n\nFontos: min. létszám 8 fő\, kevesebb jelentkező esetén a program elmarad.\nJelezd azt is\, ha van hely a kocsidban vagy beszállnál útitársnak valakihez!\n\nMinden jelentkező\, a jelentkezés leadását követően kap egy megerősítő e-mailt\, hogy jelentkezését regisztráltuk\, illetve a jelentkezésed státuszáról ( rendben\,létszám fölötti/ várakozólistás\, egyéb\, vagy nem tudtuk fogadni). A jelentkezési határidő lejáratát követően\, e-mailban tájékoztatást küldünk minden résztvevőnek a túra egyéb részleteivel kapcsolatban.\n\n \n\nA https://hegyekvandora.hu/ honlapon\, illetve egyéb helyeken megjelent programunkon a részvételed csak alapelveink ( https://hegyekvandora.hu/rolunk/ ) megismerésével és elfogadásával lehetséges! Amennyiben részt veszel a hegyekvandora.hu oldalon megjelent programokon\, azzal külön egyeztetés nélkül is elismered\, hogy alapelveinket megismerted és magadra (illetve kiskorú hozzátartozódra) nézve kötelező jelleggel elfogadtad!\n\n \n\nJavasolt felszerelés: bejáratott bakancs/cipő\,  esőkabát\, kötszer\, személyes gyógyszerek\, hideg élelem\, min. 2\,5 liter folyadék (lehetőleg víz)\, kullancsriasztó.\n\n 
URL:https://hegyekvandora.hu/event/andezit-tura/
ATTACH;FMTTYPE=image/jpeg:https://hegyekvandora.hu/wp-content/uploads/2021/08/Andezit-e1629814938804.jpg
END:VEVENT
END:VCALENDAR